BEGIN:VCALENDAR
VERSION:2.0
PRODID:-//Plone.org//NONSGML plone.app.event//EN
X-WR-TIMEZONE:America/New_York
BEGIN:VEVENT
SUMMARY:Women's Volleyball vs. CCNY
DTSTART;TZID=America/New_York:20220920T180000
DTSTAMP:20260421T125442Z
UID:da3b73a8e6444872919e1224966598e2@172.16.140.7:8080
CATEGORIES:Athletics Digital Signage,employee,Athletics,ds,employee featur
 ed,student,Student Activities
CONTACT:York Athletics\, yorkathletics@york.cuny.edu\, https://yorkathleti
 cs.com/calendar
CREATED:20210911T030733Z
DESCRIPTION:York College Cardinals host the City College of New York Beave
 rs for a CUNYAC Women’s Volleyball showdown.
LAST-MODIFIED:20220917T113241Z
LOCATION:York College Gymnasium
URL:https://www.york.cuny.edu/events/2022/womens-volleyball-vs-ccny-092020
 22
END:VEVENT
BEGIN:VTIMEZONE
TZID:America/New_York
X-LIC-LOCATION:America/New_York
BEGIN:DAYLIGHT
DTSTART:20220313T030000
TZNAME:EDT
TZOFFSETFROM:-0500
TZOFFSETTO:-0400
END:DAYLIGHT
END:VTIMEZONE
END:VCALENDAR
