BEGIN:VCALENDAR
VERSION:2.0
PRODID:-//Plone.org//NONSGML plone.app.event//EN
X-WR-TIMEZONE:America/New_York
BEGIN:VEVENT
SUMMARY:Women's Soccer vs. CCNY
DTSTART;TZID=America/New_York:20221015T163000
DTSTAMP:20260421T065316Z
UID:08250e10596943c79ace75172500cc78@172.16.140.7:8080
CATEGORIES:Athletics Digital Signage,employee,Athletics,ds,employee featur
 ed,student,Student Activities
CONTACT:York Athletics\, yorkathletics@york.cuny.edu\, https://yorkathleti
 cs.com/calendar
CREATED:20210911T030733Z
DESCRIPTION:York College Cardinals take home field for a Women’s Soccer 
 Senior Day CUNYAC matchup against the City College of New York Beavers.
LAST-MODIFIED:20221010T215546Z
LOCATION:Aviator Field - Brooklyn\, NY
URL:https://www.york.cuny.edu/events/2022/womens-soccer-vs-ccny-10152022
END:VEVENT
BEGIN:VTIMEZONE
TZID:America/New_York
X-LIC-LOCATION:America/New_York
BEGIN:DAYLIGHT
DTSTART:20220313T030000
TZNAME:EDT
TZOFFSETFROM:-0500
TZOFFSETTO:-0400
END:DAYLIGHT
END:VTIMEZONE
END:VCALENDAR
