BEGIN:VCALENDAR
VERSION:2.0
PRODID:-//Plone.org//NONSGML plone.app.event//EN
X-WR-TIMEZONE:America/New_York
BEGIN:VEVENT
SUMMARY:Women's Basketball vs. Western Connecticut State
DTSTART;TZID=America/New_York:20221209T170000
DTSTAMP:20260421T165305Z
UID:41dcbae6392a43659709fd39f99265ad@172.16.140.7:8080
CATEGORIES:Athletics Digital Signage,employee,Athletics,ds,employee featur
 ed,student,Student Activities
CONTACT:York Athletics\, yorkathletics@york.cuny.edu\, https://yorkathleti
 cs.com/calendar
CREATED:20210911T030733Z
DESCRIPTION:York College Cardinals square off against the Western Connecti
 cut State University Wolves in a Women’s Basketball non-conference bout!
LAST-MODIFIED:20221129T204207Z
LOCATION:York College Gymnasium
URL:https://www.york.cuny.edu/events/2022/womens-basketball-vs-westconn-12
 092022
END:VEVENT
BEGIN:VTIMEZONE
TZID:America/New_York
X-LIC-LOCATION:America/New_York
BEGIN:STANDARD
DTSTART:20221106T010000
TZNAME:EST
TZOFFSETFROM:-0400
TZOFFSETTO:-0500
END:STANDARD
END:VTIMEZONE
END:VCALENDAR
