BEGIN:VCALENDAR
VERSION:2.0
PRODID:-//Plone.org//NONSGML plone.app.event//EN
X-WR-TIMEZONE:America/New_York
BEGIN:VEVENT
SUMMARY:Women's Basketball vs. CCNY
DTSTART;TZID=America/New_York:20220223T170000
DTSTAMP:20260421T103306Z
UID:1483c2b10d08423db54c05289d957a72@172.16.140.7:8080
CATEGORIES:Athletics Digital Signage,employee,Athletics,ds,employee featur
 ed,student,Student Activities
CONTACT:York Athletics\, yorkathletics@york.cuny.edu\, https://yorkathleti
 cs.com/spectator
CREATED:20210308T150959Z
DESCRIPTION:York College Cardinals host the City College of New York Beave
 rs in a Women's Basketball matchup to close out of the season. Spectator r
 egistration is required to attend
LAST-MODIFIED:20220301T183447Z
LOCATION:York College Gymnasium
URL:https://www.york.cuny.edu/events/2022/womens-basketball-vs-ccny-2022
END:VEVENT
BEGIN:VTIMEZONE
TZID:America/New_York
X-LIC-LOCATION:America/New_York
BEGIN:STANDARD
DTSTART:20211107T010000
TZNAME:EST
TZOFFSETFROM:-0400
TZOFFSETTO:-0500
END:STANDARD
END:VTIMEZONE
END:VCALENDAR
