BEGIN:VCALENDAR
VERSION:2.0
PRODID:-//Plone.org//NONSGML plone.app.event//EN
X-WR-TIMEZONE:America/New_York
BEGIN:VEVENT
SUMMARY:Veterans Affairs Movie Night (2)
DTSTART;TZID=America/New_York:20220427T170000
DTEND;TZID=America/New_York:20220427T190000
DTSTAMP:20260421T130941Z
UID:1cad2314f32e4d338f9545edd3f4f70c@172.16.140.7:8080
CATEGORIES:Veterans Affairs,Student Activities
CONTACT:Larry Eaton\, 718-262-5298\, leaton@york.cuny.edu
CREATED:20220308T170914Z
DESCRIPTION:The Office of Veterans Affairs hosts fun double features\, sta
 nd-alone gems and the occasional night focused on short films.
LAST-MODIFIED:20220422T214043Z
LOCATION:AC-2D07
URL:https://www.york.cuny.edu/events/2022/veterans-affairs-movie-night-2
END:VEVENT
BEGIN:VTIMEZONE
TZID:America/New_York
X-LIC-LOCATION:America/New_York
BEGIN:DAYLIGHT
DTSTART:20220313T030000
TZNAME:EDT
TZOFFSETFROM:-0500
TZOFFSETTO:-0400
END:DAYLIGHT
END:VTIMEZONE
END:VCALENDAR
