BEGIN:VCALENDAR
VERSION:2.0
PRODID:-//Plone.org//NONSGML plone.app.event//EN
X-WR-TIMEZONE:America/New_York
BEGIN:VEVENT
SUMMARY:Thanksgiving Dinner - Evening
DTSTART;TZID=America/New_York:20221110T173000
DTEND;TZID=America/New_York:20221110T190000
DTSTAMP:20260419T134320Z
UID:09690b96ad824e67b9fb43fe231b34d8@172.16.140.7:8080
CONTACT:Jean Phelps\, 718-262-2286\, jphelps@york.cuny.edu
CREATED:20221110T160723Z
DESCRIPTION:York College Student Government invites all to the evening Tha
 nksgiving Dinner
LAST-MODIFIED:20221116T144932Z
LOCATION:AC-Atrium
URL:https://www.york.cuny.edu/events/2022/thanksgiving-dinner---evening
END:VEVENT
BEGIN:VTIMEZONE
TZID:America/New_York
X-LIC-LOCATION:America/New_York
BEGIN:STANDARD
DTSTART:20221106T010000
TZNAME:EST
TZOFFSETFROM:-0400
TZOFFSETTO:-0500
END:STANDARD
END:VTIMEZONE
END:VCALENDAR
