BEGIN:VCALENDAR
VERSION:2.0
PRODID:-//Plone.org//NONSGML plone.app.event//EN
X-WR-TIMEZONE:America/New_York
BEGIN:VEVENT
SUMMARY:Sen. Gillibrand Queens Town Hall
DTSTART;TZID=America/New_York:20220831T170000
DTEND;TZID=America/New_York:20220831T180000
DTSTAMP:20260421T033019Z
UID:1272edccbb114085b04c5584ead1894a@172.16.140.7:8080
CONTACT:http://www.gillibrand.senate.gov/townhall
CREATED:20220823T143525Z
DESCRIPTION:Join United States Senator Kirsten Gillibrand\, for a public Q
 ueens Town Hall. Senator Gillibrand wants to hear from you! She will give 
 brief remarks and answer questions from the audience.
LAST-MODIFIED:20220823T144325Z
LOCATION:AC 2nd Fl. Auditorium
URL:https://www.york.cuny.edu/events/2022/sen-gillibrand-queens-town-hall
END:VEVENT
BEGIN:VTIMEZONE
TZID:America/New_York
X-LIC-LOCATION:America/New_York
BEGIN:DAYLIGHT
DTSTART:20220313T030000
TZNAME:EDT
TZOFFSETFROM:-0500
TZOFFSETTO:-0400
END:DAYLIGHT
END:VTIMEZONE
END:VCALENDAR
