BEGIN:VCALENDAR
VERSION:2.0
PRODID:-//Plone.org//NONSGML plone.app.event//EN
X-WR-TIMEZONE:America/New_York
BEGIN:VEVENT
SUMMARY:SEC Presentation to CUNY Business Students
DTSTART;TZID=America/New_York:20220405T140000
DTEND;TZID=America/New_York:20220405T150000
DTSTAMP:20260421T021857Z
UID:2628b5eafee54927ba3a1fa5d0a60c65@172.16.140.7:8080
CONTACT:https://secgov.webex.com/secgov/j.php?MTID=m7a5f80e130ad1982e0613d
 dc44cf199e
CREATED:20220401T164643Z
DESCRIPTION:U.S. Securities and Exchange Commission Presentation to CUNY B
 usiness Students
LAST-MODIFIED:20220401T174514Z
URL:https://www.york.cuny.edu/events/2022/sec-presentation-to-cuny-busines
 s-students
END:VEVENT
BEGIN:VTIMEZONE
TZID:America/New_York
X-LIC-LOCATION:America/New_York
BEGIN:DAYLIGHT
DTSTART:20220313T030000
TZNAME:EDT
TZOFFSETFROM:-0500
TZOFFSETTO:-0400
END:DAYLIGHT
END:VTIMEZONE
END:VCALENDAR
