BEGIN:VCALENDAR
VERSION:2.0
PRODID:-//Plone.org//NONSGML plone.app.event//EN
X-WR-TIMEZONE:America/New_York
BEGIN:VEVENT
SUMMARY:Rebuilding trust in drugs/vaccines development process
DTSTART;TZID=America/New_York:20220627T170000
DTEND;TZID=America/New_York:20220627T183000
DTSTAMP:20260421T042010Z
UID:6eb0c1917eb74a2b8ebea67ea9fe23f1@172.16.140.7:8080
CATEGORIES:CTM
CONTACT:https://us02web.zoom.us/j/85448306497
CREATED:20220621T134954Z
DESCRIPTION:MS Clinical Trial Management at York College Presents Rebuildi
 ng trust in drugs/vaccines development process online panel discussion.
LAST-MODIFIED:20230922T144542Z
LOCATION:Online
URL:https://www.york.cuny.edu/events/2022/rebuilding-trust-in-drugsvaccine
 s-development-process
END:VEVENT
BEGIN:VTIMEZONE
TZID:America/New_York
X-LIC-LOCATION:America/New_York
BEGIN:DAYLIGHT
DTSTART:20220313T030000
TZNAME:EDT
TZOFFSETFROM:-0500
TZOFFSETTO:-0400
END:DAYLIGHT
END:VTIMEZONE
END:VCALENDAR
