BEGIN:VCALENDAR
VERSION:2.0
PRODID:-//Plone.org//NONSGML plone.app.event//EN
X-WR-TIMEZONE:America/New_York
BEGIN:VEVENT
SUMMARY:National Voter Registration Day
DTSTART;TZID=America/New_York:20220920T090000
DTEND;TZID=America/New_York:20220920T170000
DTSTAMP:20260421T134442Z
UID:7c5eb63998b040688159d69b414a4a55@172.16.140.7:8080
CONTACT:Anthony Andrews\, aandrews@york.cuny.edu\, https://nycvotes.turbov
 ote.org
CREATED:20200914T143855Z
DESCRIPTION:It’s National Voter Registration Day! If you're 18 years of 
 age\, or recently become a new citizen\,now is the time to register to vot
 e!
LAST-MODIFIED:20220919T115500Z
LOCATION:AC-Atrium
URL:https://www.york.cuny.edu/events/2022/national-voter-registration-day-
 2022
END:VEVENT
BEGIN:VTIMEZONE
TZID:America/New_York
X-LIC-LOCATION:America/New_York
BEGIN:DAYLIGHT
DTSTART:20220313T030000
TZNAME:EDT
TZOFFSETFROM:-0500
TZOFFSETTO:-0400
END:DAYLIGHT
END:VTIMEZONE
END:VCALENDAR
