BEGIN:VCALENDAR
VERSION:2.0
PRODID:-//Plone.org//NONSGML plone.app.event//EN
X-WR-TIMEZONE:America/New_York
BEGIN:VEVENT
SUMMARY:MSW Virtual Information Session - Wednesday
DTSTART;TZID=America/New_York:20220126T180000
DTEND;TZID=America/New_York:20220126T200000
DTSTAMP:20260420T002246Z
UID:42b8c6d824a449cb9e420a28413d2bae@172.16.140.7:8080
CATEGORIES:MSW Information Sessions,Social Work,Prospective Student
CONTACT:Isabelle Hubert\, MSW\, Substitute MSW Academic Program Specialist
 \, msw@york.cuny.edu
CREATED:20211215T144728Z
DESCRIPTION:Graduate social work information sessions are available in per
 son and virtually to help you consider the important decision and benefits
  of pursuing your academic journey in the MSW Program at CUNY York College
 .
LAST-MODIFIED:20211216T155704Z
LOCATION:Zoom Meeting
URL:https://www.york.cuny.edu/events/2022/msw-virtual-information-session-
 --wednesday-
END:VEVENT
BEGIN:VTIMEZONE
TZID:America/New_York
X-LIC-LOCATION:America/New_York
BEGIN:STANDARD
DTSTART:20211107T010000
TZNAME:EST
TZOFFSETFROM:-0400
TZOFFSETTO:-0500
END:STANDARD
END:VTIMEZONE
END:VCALENDAR
