BEGIN:VCALENDAR
VERSION:2.0
PRODID:-//Plone.org//NONSGML plone.app.event//EN
X-WR-TIMEZONE:America/New_York
BEGIN:VEVENT
SUMMARY:Mobile Dating App Research
DTSTART;TZID=America/New_York:20221109T130000
DTEND;TZID=America/New_York:20221109T140000
DTSTAMP:20260420T141405Z
UID:b05e92f8e0ff49f0a6cd47b573650e72@172.16.140.7:8080
CONTACT:Monique Hylton\, monique.hylton@yorkmail.cuny.edu\, https://us02we
 b.zoom.us/j/83761413630?pwd=c0d0VU9veU1UZnlzcDJjeTNpS2lSQT09
CREATED:20221104T125634Z
DESCRIPTION:The UrbanHealth Lab presents its weekly seminars. This week's 
 Formal Presentation will be on "Mobile Dating App Research" by Dr. Vincent
  Jones.
LAST-MODIFIED:20221104T130806Z
LOCATION:Zoom
URL:https://www.york.cuny.edu/events/2022/mobile-dating-app-research-
END:VEVENT
BEGIN:VTIMEZONE
TZID:America/New_York
X-LIC-LOCATION:America/New_York
BEGIN:STANDARD
DTSTART:20221106T010000
TZNAME:EST
TZOFFSETFROM:-0400
TZOFFSETTO:-0500
END:STANDARD
END:VTIMEZONE
END:VCALENDAR
