BEGIN:VCALENDAR
VERSION:2.0
PRODID:-//Plone.org//NONSGML plone.app.event//EN
X-WR-TIMEZONE:America/New_York
BEGIN:VEVENT
SUMMARY:Men's Volleyball vs. Purchase College
DTSTART;TZID=America/New_York:20220202T190000
DTSTAMP:20260421T183601Z
UID:c022e138c1204a1181fc7e2c1ad7130a@172.16.140.7:8080
CATEGORIES:Athletics Digital Signage,employee,Athletics,ds,employee featur
 ed,student,Student Activities
CONTACT:York Athletics\, yorkathletics@york.cuny.edu\, https://yorkathleti
 cs.com/fans
CREATED:20210308T150959Z
DESCRIPTION:York College Cardinals open the Men’s Volleyball season with
  a non-conference tilt against the Purchase College Panthers.  Follow the 
 action with our live stream.
LAST-MODIFIED:20220126T224745Z
LOCATION:York College Gymnasium
URL:https://www.york.cuny.edu/events/2022/mens-volleyball-vs-purchase-coll
 ege-2022
END:VEVENT
BEGIN:VTIMEZONE
TZID:America/New_York
X-LIC-LOCATION:America/New_York
BEGIN:STANDARD
DTSTART:20211107T010000
TZNAME:EST
TZOFFSETFROM:-0400
TZOFFSETTO:-0500
END:STANDARD
END:VTIMEZONE
END:VCALENDAR
