BEGIN:VCALENDAR
VERSION:2.0
PRODID:-//Plone.org//NONSGML plone.app.event//EN
X-WR-TIMEZONE:America/New_York
BEGIN:VEVENT
SUMMARY:Men's Basketball vs. John Jay College
DTSTART;TZID=America/New_York:20220203T190000
DTSTAMP:20260421T085155Z
UID:acf8212bfef04191bb74e979ff9290c2@172.16.140.7:8080
CATEGORIES:Athletics Digital Signage,employee,Athletics,ds,employee featur
 ed,student,Student Activities
CONTACT:York Athletics\, yorkathletics@york.cuny.edu\, https://yorkathleti
 cs.com/fans
CREATED:20210308T150959Z
DESCRIPTION:York College Cardinals take on the John Jay College Bloodhound
 s in a CUNYAC Men's Basketball home matchup.  Follow the action with our l
 ive stream.
LAST-MODIFIED:20220126T204441Z
LOCATION:York College Gymnasium
URL:https://www.york.cuny.edu/events/2022/mens-basketball-vs-john-jay-coll
 ege-2021
END:VEVENT
BEGIN:VTIMEZONE
TZID:America/New_York
X-LIC-LOCATION:America/New_York
BEGIN:STANDARD
DTSTART:20211107T010000
TZNAME:EST
TZOFFSETFROM:-0400
TZOFFSETTO:-0500
END:STANDARD
END:VTIMEZONE
END:VCALENDAR
