BEGIN:VCALENDAR
VERSION:2.0
PRODID:-//Plone.org//NONSGML plone.app.event//EN
X-WR-TIMEZONE:America/New_York
BEGIN:VEVENT
SUMMARY:How to Succeed in Business
DTSTART;TZID=America/New_York:20220414T130000
DTEND;TZID=America/New_York:20220414T140000
DTSTAMP:20260421T065041Z
UID:fd60cbd34075450982642cd9e4d878aa@172.16.140.7:8080
CATEGORIES:Student Affairs,Student Activities
CONTACT:Anthony Andrews\, 718-262-2936\, aandrews@york.cuny.edu\, https://
 us02web.zoom.us/j/84035576352?pwd=VTBrdERqVlJZV1RmanZKVWwwTFdiUT09
CREATED:20220308T170300Z
DESCRIPTION:CEO Marc Thompson outlines his plan for success.
LAST-MODIFIED:20220308T205525Z
LOCATION:Virtual Zoom
URL:https://www.york.cuny.edu/events/2022/how-to-succeed-in-business
END:VEVENT
BEGIN:VTIMEZONE
TZID:America/New_York
X-LIC-LOCATION:America/New_York
BEGIN:DAYLIGHT
DTSTART:20220313T030000
TZNAME:EDT
TZOFFSETFROM:-0500
TZOFFSETTO:-0400
END:DAYLIGHT
END:VTIMEZONE
END:VCALENDAR
