BEGIN:VCALENDAR
VERSION:2.0
PRODID:-//Plone.org//NONSGML plone.app.event//EN
X-WR-TIMEZONE:America/New_York
BEGIN:VEVENT
SUMMARY:Hispanic Heritage Month Celebration
DTSTART;TZID=America/New_York:20221013T120000
DTEND;TZID=America/New_York:20221013T140000
DTSTAMP:20260420T210151Z
UID:a09e2a1b6f64417fafcd2896228c9389@172.16.140.7:8080
CREATED:20221011T151308Z
DESCRIPTION:Join us in celebrating Hispanic Heritage Month with special gu
 est speaker New York State Senator Jessica Ramos. This will be followed by
  music\, food & fun!
LAST-MODIFIED:20221013T135429Z
LOCATION:AC-Atrium
URL:https://www.york.cuny.edu/events/2022/hispanic-heritage-month-celebrat
 ion
END:VEVENT
BEGIN:VTIMEZONE
TZID:America/New_York
X-LIC-LOCATION:America/New_York
BEGIN:DAYLIGHT
DTSTART:20220313T030000
TZNAME:EDT
TZOFFSETFROM:-0500
TZOFFSETTO:-0400
END:DAYLIGHT
END:VTIMEZONE
END:VCALENDAR
