BEGIN:VCALENDAR
VERSION:2.0
PRODID:-//Plone.org//NONSGML plone.app.event//EN
X-WR-TIMEZONE:America/New_York
BEGIN:VEVENT
SUMMARY:Guys and Dolls (third performance)
DTSTART;TZID=America/New_York:20220507T190000
DTEND;TZID=America/New_York:20220507T213000
DTSTAMP:20260419T175230Z
UID:d7ca7add3fa64809b406d195bbaa1774@172.16.140.7:8080
CONTACT:Thomas Marion\, 718-262-3705\, tmarion@york.cuny.edu\, http://www.
 york.cuny.edu/theatre
CREATED:20220405T161234Z
DESCRIPTION:One of the most popular Broadway musicals of all time...only j
 azzier!
LAST-MODIFIED:20220429T162351Z
LOCATION:Jamaica Performing Arts Center\, 153-10 Jamaica Avenue\, Jamaica\
 , NY 11432
URL:https://www.york.cuny.edu/events/2022/guys--dolls-third-performance
END:VEVENT
BEGIN:VTIMEZONE
TZID:America/New_York
X-LIC-LOCATION:America/New_York
BEGIN:DAYLIGHT
DTSTART:20220313T030000
TZNAME:EDT
TZOFFSETFROM:-0500
TZOFFSETTO:-0400
END:DAYLIGHT
END:VTIMEZONE
END:VCALENDAR
