BEGIN:VCALENDAR
VERSION:2.0
PRODID:-//Plone.org//NONSGML plone.app.event//EN
X-WR-TIMEZONE:America/New_York
BEGIN:VEVENT
SUMMARY:FYE Workshop:  Growth Mindset
DTSTART;TZID=America/New_York:20221027T120000
DTEND;TZID=America/New_York:20221027T130000
DTSTAMP:20260419T124040Z
UID:469433f73069440d8f615c768d0c146c@172.16.140.7:8080
CATEGORIES:Student Affairs
CONTACT:Shayla Pruitt\, 718-262-5161\, Spruitt@york.cuny.edu
CREATED:20220923T175549Z
DESCRIPTION:First Year Experience Program
LAST-MODIFIED:20220923T181316Z
LOCATION:AC-1G06
URL:https://www.york.cuny.edu/events/2022/fye-workshop--growth-mindset
END:VEVENT
BEGIN:VTIMEZONE
TZID:America/New_York
X-LIC-LOCATION:America/New_York
BEGIN:DAYLIGHT
DTSTART:20220313T030000
TZNAME:EDT
TZOFFSETFROM:-0500
TZOFFSETTO:-0400
END:DAYLIGHT
END:VTIMEZONE
END:VCALENDAR
