BEGIN:VCALENDAR
VERSION:2.0
PRODID:-//Plone.org//NONSGML plone.app.event//EN
X-WR-TIMEZONE:America/New_York
BEGIN:VEVENT
SUMMARY:Tuesday Jam - Music\, Dancing\, Fun\, Refreshments
DTSTART;TZID=America/New_York:20220308T120000
DTEND;TZID=America/New_York:20220308T133000
DTSTAMP:20260421T020216Z
UID:242aeddefe144f49b20e2bb9d5d95dac@172.16.140.7:8080
CATEGORIES:Student Activities
CONTACT:Jean Phelps\, 9174531995\, jphelps@york.cuny.edu
CREATED:20220302T193652Z
DESCRIPTION:Tuesday Jam\, Music\, Dancing\, Fun\, Refreshments Hosted by O
 ffice of Student Activities and YCRadio
LAST-MODIFIED:20220302T202337Z
LOCATION:Atrium
URL:https://www.york.cuny.edu/events/2022/event.2022-03-02.0524735284
END:VEVENT
BEGIN:VTIMEZONE
TZID:America/New_York
X-LIC-LOCATION:America/New_York
BEGIN:STANDARD
DTSTART:20211107T010000
TZNAME:EST
TZOFFSETFROM:-0400
TZOFFSETTO:-0500
END:STANDARD
END:VTIMEZONE
END:VCALENDAR
