BEGIN:VCALENDAR
VERSION:2.0
PRODID:-//Plone.org//NONSGML plone.app.event//EN
X-WR-TIMEZONE:America/New_York
BEGIN:VEVENT
SUMMARY:Blood Drive - Free NY Mets Tickets
DTSTART;TZID=America/New_York:20220914T110000
DTEND;TZID=America/New_York:20220914T190000
DTSTAMP:20260421T031708Z
UID:493dc71412784c7d88b2cd1656137567@172.16.140.7:8080
CONTACT:Jean Phelps\, 718-262-2286\, jphelps@york.cuny.edu
CREATED:20220908T211815Z
DESCRIPTION:All presenting donors will receive a free pair of NY Mets tick
 ets and a free Mets t-shirt
LAST-MODIFIED:20220909T132549Z
LOCATION:AC-Atrium
URL:https://www.york.cuny.edu/events/2022/blood-drive---ny-mets-tickets
END:VEVENT
BEGIN:VTIMEZONE
TZID:America/New_York
X-LIC-LOCATION:America/New_York
BEGIN:DAYLIGHT
DTSTART:20220313T030000
TZNAME:EDT
TZOFFSETFROM:-0500
TZOFFSETTO:-0400
END:DAYLIGHT
END:VTIMEZONE
END:VCALENDAR
