BEGIN:VCALENDAR
VERSION:2.0
PRODID:-//Plone.org//NONSGML plone.app.event//EN
X-WR-TIMEZONE:America/New_York
BEGIN:VEVENT
SUMMARY:Auditions
DTSTART;TZID=America/New_York:20220412T120000
DTEND;TZID=America/New_York:20220412T140000
DTSTAMP:20260423T141557Z
UID:33e4a0e918b64fe1a7a846768ef9cb5c@172.16.140.7:8080
CATEGORIES:ds,Performing and Fine Arts
CONTACT:Thomas Marion\, 718.262.3705\, tmarion@york.cuny.edu\, http://www.
 york.cuny.edu/auditions
CREATED:20220405T155019Z
DESCRIPTION:York College Theatre is excited to announce the Auditions to i
 ts fall 2022 major production. Students cast in the production may earn 3 
 credits by registering for TA 215 Theatre Practice.
LAST-MODIFIED:20220405T173026Z
LOCATION:ZOOM
URL:https://www.york.cuny.edu/events/2022/auditions
END:VEVENT
BEGIN:VTIMEZONE
TZID:America/New_York
X-LIC-LOCATION:America/New_York
BEGIN:DAYLIGHT
DTSTART:20220313T030000
TZNAME:EDT
TZOFFSETFROM:-0500
TZOFFSETTO:-0400
END:DAYLIGHT
END:VTIMEZONE
END:VCALENDAR
