BEGIN:VCALENDAR
VERSION:2.0
PRODID:-//Plone.org//NONSGML plone.app.event//EN
X-WR-TIMEZONE:America/New_York
BEGIN:VEVENT
SUMMARY:Athletics Alumni Appreciation Day
DTSTART;TZID=America/New_York:20220315T173000
DTEND;TZID=America/New_York:20220315T190000
DTSTAMP:20260421T060010Z
UID:3343a0268c6c45eca476ca6d9e35e22b@172.16.140.7:8080
CATEGORIES:Student Affairs,Student Activities
CONTACT:Carl Christian\, 718-262-5233\, CChristian@york.cuny.edu
CREATED:20220302T230910Z
DESCRIPTION:Welcome back event for athletics alumni followed by a Men's Vo
 lleyball vs. John Jay College
LAST-MODIFIED:20220304T153810Z
LOCATION:HP-200
URL:https://www.york.cuny.edu/events/2022/athletics-alumni-appreciation-da
 y
END:VEVENT
BEGIN:VTIMEZONE
TZID:America/New_York
X-LIC-LOCATION:America/New_York
BEGIN:DAYLIGHT
DTSTART:20220313T030000
TZNAME:EDT
TZOFFSETFROM:-0500
TZOFFSETTO:-0400
END:DAYLIGHT
END:VTIMEZONE
END:VCALENDAR
