BEGIN:VCALENDAR
VERSION:2.0
PRODID:-//Plone.org//NONSGML plone.app.event//EN
X-WR-TIMEZONE:America/New_York
BEGIN:VEVENT
SUMMARY:African American Read In
DTSTART;TZID=America/New_York:20220206T130000
DTEND;TZID=America/New_York:20220206T140000
DTSTAMP:20260420T223746Z
UID:8f777e88bc824cba9c5dd025d8907803@172.16.140.7:8080
CATEGORIES:Black History Month
CONTACT:Jean Phelps\, 917-453-1995\, jphelps@york.cuny.edu\, https://us02w
 eb.zoom.us/meeting/register/tZEuceugqj4oHdYHUfmYqy6sWmfdlMD3xoQs
CREATED:20220201T162954Z
DESCRIPTION:Descendant of President Thomas Jefferson and Sally Hemmings re
 veals secrets in virtual Black History Month Event.  Author Gayle Jessup W
 hite discusse book with TV journalist Cheryl Wills
LAST-MODIFIED:20220204T074851Z
LOCATION:Zoom
URL:https://www.york.cuny.edu/events/2022/african-american-read-in
END:VEVENT
BEGIN:VTIMEZONE
TZID:America/New_York
X-LIC-LOCATION:America/New_York
BEGIN:STANDARD
DTSTART:20211107T010000
TZNAME:EST
TZOFFSETFROM:-0400
TZOFFSETTO:-0500
END:STANDARD
END:VTIMEZONE
END:VCALENDAR
