BEGIN:VCALENDAR
VERSION:2.0
PRODID:-//Plone.org//NONSGML plone.app.event//EN
X-WR-TIMEZONE:America/New_York
BEGIN:VEVENT
SUMMARY:York Men's Basketball Invitational Consolation Game
DTSTART;TZID=America/New_York:20211211T130000
DTSTAMP:20260421T034516Z
UID:7d8d2bcfb930422e8c0f513c239fb3a0@172.16.140.7:8080
CATEGORIES:Athletics Digital Signage,employee,Athletics,ds,employee featur
 ed,student,Student Activities
CONTACT:York Athletics\, yorkathletics@york.cuny.edu\, https://yorkathleti
 cs.com/fans
CREATED:20210308T150959Z
DESCRIPTION:York College Men's Basketball Invitational Consolation Game fe
 atures the St. Joseph's College (Brooklyn) Bears versus the Keystone Colle
 ge Giants.  Follow the action with our live stream.
LAST-MODIFIED:20211211T051348Z
LOCATION:York College Gymnasium
URL:https://www.york.cuny.edu/events/2021/york-mens-basketball-invitationa
 l-consolation-game-2021
END:VEVENT
BEGIN:VTIMEZONE
TZID:America/New_York
X-LIC-LOCATION:America/New_York
BEGIN:STANDARD
DTSTART:20211107T010000
TZNAME:EST
TZOFFSETFROM:-0400
TZOFFSETTO:-0500
END:STANDARD
END:VTIMEZONE
END:VCALENDAR
