BEGIN:VCALENDAR
VERSION:2.0
PRODID:-//Plone.org//NONSGML plone.app.event//EN
X-WR-TIMEZONE:America/New_York
BEGIN:VEVENT
SUMMARY:UrbanHealth Lab Seminar with Scott Petersen LMSW
DTSTART;TZID=America/New_York:20210428T130000
DTEND;TZID=America/New_York:20210428T140000
DTSTAMP:20260421T164525Z
UID:a0b818b655914224ab7b0f50ad38339f@172.16.140.7:8080
CATEGORIES:student,Student Activities
CONTACT:Monique Hylton\, mhylton@besthealthresearch.org\, https://us02web.
 zoom.us/meeting/register/tZcrdO-vrz8jE9XLNdQJGQ7pZ4jqwHWj4ARL
CREATED:20210312T213004Z
DESCRIPTION:The UrbanHealth Lab at York College presents its weekly Wednes
 day seminar\, with a formal presentation on The Trajectory of Male Sex Wor
 k Consumption: How Technology and Stigma Impact the Profession and its Con
 sumers by Scott Petersen LMSW.
LAST-MODIFIED:20210315T193109Z
LOCATION:Zoom
URL:https://www.york.cuny.edu/events/2021/urbanhealth-lab-seminar-with-sco
 tt-petersen-lmsw
END:VEVENT
BEGIN:VTIMEZONE
TZID:America/New_York
X-LIC-LOCATION:America/New_York
BEGIN:DAYLIGHT
DTSTART:20210314T030000
TZNAME:EDT
TZOFFSETFROM:-0500
TZOFFSETTO:-0400
END:DAYLIGHT
END:VTIMEZONE
END:VCALENDAR
