BEGIN:VCALENDAR
VERSION:2.0
PRODID:-//Plone.org//NONSGML plone.app.event//EN
X-WR-TIMEZONE:America/New_York
BEGIN:VEVENT
SUMMARY:Town Hall
DTSTART;TZID=America/New_York:20211118T120000
DTEND;TZID=America/New_York:20211118T130000
DTSTAMP:20260419T231940Z
UID:b74d36d580ce45a0b2790ddba7486d7c@172.16.140.7:8080
CATEGORIES:Save the Date
CONTACT:https://us02web.zoom.us/meeting/register/tZ0lde2qqDsjEtah1a0paejiR
 zCID7WKu3yN
CREATED:20210504T134649Z
DESCRIPTION:Please join President Eanes! Connect with your York family\, a
 sk questions\, and voice concerns. Nov 18 at 12 pm
LAST-MODIFIED:20211116T211658Z
LOCATION:Zoom
URL:https://www.york.cuny.edu/events/2021/town-hall-20211118
END:VEVENT
BEGIN:VTIMEZONE
TZID:America/New_York
X-LIC-LOCATION:America/New_York
BEGIN:STANDARD
DTSTART:20211107T010000
TZNAME:EST
TZOFFSETFROM:-0400
TZOFFSETTO:-0500
END:STANDARD
END:VTIMEZONE
END:VCALENDAR
