BEGIN:VCALENDAR
VERSION:2.0
PRODID:-//Plone.org//NONSGML plone.app.event//EN
X-WR-TIMEZONE:America/New_York
BEGIN:VEVENT
SUMMARY:Bottomless Closet Three-Part Career Series
DTSTART;TZID=America/New_York:20210309T170000
DTEND;TZID=America/New_York:20210309T180000
DTSTAMP:20260420T035457Z
UID:6f25e0877f7e4438ab0eff1430b4744b@172.16.140.7:8080
RRULE:FREQ=DAILY;COUNT=2;INTERVAL=7
ATTENDEE;CN=Students;ROLE=REQ-PARTICIPANT:Students
CONTACT:Dr. Truett Lee Vaigneur\, Jr.\, 718-262-2323\, tvaigneur@york.cuny
 .edu\, https://bit.ly/2P5Vt2n
CREATED:20210308T174149Z
DESCRIPTION:There will be an opportunity to learn how to register with B
 ottomless Closet to take advantage of their services and wardrobe selecti
 on.
LAST-MODIFIED:20210309T142553Z
LOCATION:Virtual
URL:https://www.york.cuny.edu/events/2021/three-part-career-series-event
END:VEVENT
BEGIN:VTIMEZONE
TZID:America/New_York
X-LIC-LOCATION:America/New_York
BEGIN:STANDARD
DTSTART:20201101T010000
TZNAME:EST
TZOFFSETFROM:-0400
TZOFFSETTO:-0500
END:STANDARD
END:VTIMEZONE
END:VCALENDAR
