BEGIN:VCALENDAR
VERSION:2.0
PRODID:-//Plone.org//NONSGML plone.app.event//EN
X-WR-TIMEZONE:America/New_York
BEGIN:VEVENT
SUMMARY:Virtual Game Night - Celebrates Class of 2021
DTSTART;TZID=America/New_York:20210429T190000
DTEND;TZID=America/New_York:20210429T203000
DTSTAMP:20260421T161224Z
UID:5aaa4db0e2334db1bea8b4392e74504f@172.16.140.7:8080
CATEGORIES:Commencement
CONTACT:Sheila Beverly Skinner\, sbeverlyskinner@york.cuny.edu\, https://u
 s02web.zoom.us/j/82846739731?pwd=UkJLU2RqSnV6dHoreWh1Smh2Y1E1QT09
CREATED:20210423T081922Z
DESCRIPTION:Join Student Activities for an evening of fun and celebration.
  Win prizes. Laugh with fellow graduates. Celebrate this monumental milest
 one! Kahoot competition! Trivia Games! Scavenger Hunt!
LAST-MODIFIED:20210423T122338Z
LOCATION:Zoom
URL:https://www.york.cuny.edu/events/2021/student-activities-celebrates-cl
 ass-of-2021---event-1---virtual-game-night
END:VEVENT
BEGIN:VTIMEZONE
TZID:America/New_York
X-LIC-LOCATION:America/New_York
BEGIN:DAYLIGHT
DTSTART:20210314T030000
TZNAME:EDT
TZOFFSETFROM:-0500
TZOFFSETTO:-0400
END:DAYLIGHT
END:VTIMEZONE
END:VCALENDAR
