BEGIN:VCALENDAR
VERSION:2.0
PRODID:-//Plone.org//NONSGML plone.app.event//EN
X-WR-TIMEZONE:America/New_York
BEGIN:VEVENT
SUMMARY:State of the College Address
DTSTART;TZID=America/New_York:20211028T120000
DTEND;TZID=America/New_York:20211028T130000
DTSTAMP:20260420T214241Z
UID:29ee0f586e584717acee7b2cd81f1363@172.16.140.7:8080
CATEGORIES:Save the Date,Weekly Highlight
CREATED:20210928T210948Z
DESCRIPTION:Live virtual event during which the president shared data and 
 updates from across the campus.
LAST-MODIFIED:20211029T131605Z
LOCATION:12pm
URL:https://www.york.cuny.edu/events/2021/state-of-the-college-2021
END:VEVENT
BEGIN:VTIMEZONE
TZID:America/New_York
X-LIC-LOCATION:America/New_York
BEGIN:DAYLIGHT
DTSTART:20210314T030000
TZNAME:EDT
TZOFFSETFROM:-0500
TZOFFSETTO:-0400
END:DAYLIGHT
END:VTIMEZONE
END:VCALENDAR
