BEGIN:VCALENDAR
VERSION:2.0
PRODID:-//Plone.org//NONSGML plone.app.event//EN
X-WR-TIMEZONE:America/New_York
BEGIN:VEVENT
SUMMARY:Social Justice Journalism
DTSTART;TZID=America/New_York:20210923T093000
DTEND;TZID=America/New_York:20210923T103000
DTSTAMP:20260420T090247Z
UID:2b1a84e0aee4471a9ce8bb27c897ccf2@172.16.140.7:8080
ATTENDEE;CN="All are welcome";ROLE=REQ-PARTICIPANT:All are welcome
CATEGORIES:Current Students,Journalism Program
CONTACT:Prof. Tom Moore\, 718-262-2484\, tmoore@york.cuny.edu
CREATED:20210914T203155Z
DESCRIPTION:Sign up for a lively discussion.
LAST-MODIFIED:20210914T210200Z
LOCATION:virtual
URL:https://www.york.cuny.edu/events/2021/social-justice-journalism
END:VEVENT
BEGIN:VTIMEZONE
TZID:America/New_York
X-LIC-LOCATION:America/New_York
BEGIN:DAYLIGHT
DTSTART:20210314T030000
TZNAME:EDT
TZOFFSETFROM:-0500
TZOFFSETTO:-0400
END:DAYLIGHT
END:VTIMEZONE
END:VCALENDAR
