BEGIN:VCALENDAR
VERSION:2.0
PRODID:-//Plone.org//NONSGML plone.app.event//EN
X-WR-TIMEZONE:America/New_York
BEGIN:VEVENT
SUMMARY:SOAR Week #3 Upper Body Wednesday - Rec On-Demand Workout Program
DTSTART;VALUE=DATE:20210602
DTEND;VALUE=DATE:20210603
DTSTAMP:20260420T100800Z
UID:9a3701a7924c484ab419ae850f96614c@172.16.140.7:8080
CATEGORIES:Athletics Digital Signage,employee,Athletics,ds,employee featur
 ed,student,Student Activities
CONTACT:York Athletics & Recreation\, yorkathletics@york.cuny.edu\, https:
 //youtu.be/x32tecb2l5g
CREATED:20210128T150753Z
DESCRIPTION:Recreation presents the SOAR workout program with Upper Body W
 ednesday of Week #3. The SOAR workout program features 5-weeks of dynamic 
 structured workouts available on-demand.
LAST-MODIFIED:20210531T124208Z
LOCATION:https://www.yorkathletics.com/soar
URL:https://www.york.cuny.edu/events/2021/soar-week-3-upper-body-wednesday
 -rec-on-demand-workout-program-june21
END:VEVENT
END:VCALENDAR
