BEGIN:VCALENDAR
VERSION:2.0
PRODID:-//Plone.org//NONSGML plone.app.event//EN
X-WR-TIMEZONE:America/New_York
BEGIN:VEVENT
SUMMARY:SOAR Week #3 Full Body Monday - Rec On-Demand Workout Program
DTSTART;TZID=America/New_York:20210215T103000
DTSTAMP:20260420T065745Z
UID:075918a23e6340dd979418b6a9a250ee@172.16.140.7:8080
CATEGORIES:Athletics Digital Signage,employee,Athletics,ds,employee featur
 ed,student,Student Activities
CONTACT:York Athletics & Recreation\, yorkathletics@york.cuny.edu\, https:
 //youtu.be/tPbExGLD9z8
CREATED:20210128T150426Z
DESCRIPTION:Recreation presents the SOAR workout program with Full Body Mo
 nday of Week #3. The SOAR workout program features 5-weeks of dynamic stru
 ctured workouts available on-demand via https://yorkathletics.com/soar.
LAST-MODIFIED:20210128T150559Z
LOCATION:https://www.yorkathletics.com/soar
URL:https://www.york.cuny.edu/events/2021/soar-week-3-full-body-monday---r
 ec-on-demand-workout-program
END:VEVENT
BEGIN:VTIMEZONE
TZID:America/New_York
X-LIC-LOCATION:America/New_York
BEGIN:STANDARD
DTSTART:20201101T010000
TZNAME:EST
TZOFFSETFROM:-0400
TZOFFSETTO:-0500
END:STANDARD
END:VTIMEZONE
END:VCALENDAR
