BEGIN:VCALENDAR
VERSION:2.0
PRODID:-//Plone.org//NONSGML plone.app.event//EN
X-WR-TIMEZONE:America/New_York
BEGIN:VEVENT
SUMMARY:Cardio Monday - SOAR Week #2
DTSTART;TZID=America/New_York:20210809T103000
DTSTAMP:20260420T011954Z
UID:b4a6d3d5ce324ad499784435462c79f3@172.16.140.7:8080
CATEGORIES:Athletics Digital Signage,employee,Athletics,ds,employee featur
 ed,student,Student Activities
CONTACT:York Athletics and Recreation\, yorkathletics@york.cuny.edu\, http
 s://youtu.be/2OaLx-805cU
CREATED:20210126T005410Z
DESCRIPTION:Recreation presents the SOAR workout program with Cardio Monda
 y of Week #2. The SOAR workout program features 5-weeks of dynamic structu
 red workouts available on-demand.
LAST-MODIFIED:20210705T031148Z
LOCATION:https://www.yorkathletics.com/soar
URL:https://www.york.cuny.edu/events/2021/soar-week-2-cardio-monday-rec-on
 -demand-workout-program-su21
END:VEVENT
BEGIN:VTIMEZONE
TZID:America/New_York
X-LIC-LOCATION:America/New_York
BEGIN:DAYLIGHT
DTSTART:20210314T030000
TZNAME:EDT
TZOFFSETFROM:-0500
TZOFFSETTO:-0400
END:DAYLIGHT
END:VTIMEZONE
END:VCALENDAR
