BEGIN:VCALENDAR
VERSION:2.0
PRODID:-//Plone.org//NONSGML plone.app.event//EN
X-WR-TIMEZONE:America/New_York
BEGIN:VEVENT
SUMMARY:SOAR Week #1 Mobility Sunday - Rec On-Demand Workout Program
DTSTART;VALUE=DATE:20210523
DTEND;VALUE=DATE:20210524
DTSTAMP:20260419T230038Z
UID:d035cfa5783248a69a3db4c7c5367487@172.16.140.7:8080
CATEGORIES:Athletics Digital Signage,employee,Athletics,ds,employee featur
 ed,student,Student Activities
CONTACT:York Athletics and Recreation\, yorkathletics@york.cuny.edu\, http
 s://youtu.be/wt7vuvR6mHk
CREATED:20210125T215843Z
DESCRIPTION:Recreation presents the SOAR workout program with Mobility Sun
 day of Week #1. The SOAR workout program features 5-weeks of dynamic struc
 tured workouts available on-demand.
LAST-MODIFIED:20210517T103109Z
LOCATION:https://www.yorkathletics.com/soar
URL:https://www.york.cuny.edu/events/2021/soar-week-1-mobility-sunday-rec-
 on-demand-workout-program-m21
END:VEVENT
END:VCALENDAR
