BEGIN:VCALENDAR
VERSION:2.0
PRODID:-//Plone.org//NONSGML plone.app.event//EN
X-WR-TIMEZONE:America/New_York
BEGIN:VEVENT
SUMMARY:Small Group Writing Workshop
DTSTART;TZID=America/New_York:20211201T130000
DTEND;TZID=America/New_York:20211201T140000
DTSTAMP:20260424T005117Z
UID:06a9e47f62594c4d8b39953c4b66d2d1@172.16.140.7:8080
CONTACT:Monique Hylton\, Mhylton@besthealthresearch.org\, https://us02web.
 zoom.us/meeting/register/tZEkcOuhrD4jHdw7PjvJW491-7Tut7SMuHcA
CREATED:20211126T180017Z
DESCRIPTION:The UrbanHealth Lab presents its weekly Wednesday seminar\, wi
 th this week's Semi-Structured Discussion on "Small Group Writing Workshop
 ".
LAST-MODIFIED:20211129T122040Z
LOCATION:Zoom
URL:https://www.york.cuny.edu/events/2021/small-group-work-shop
END:VEVENT
BEGIN:VTIMEZONE
TZID:America/New_York
X-LIC-LOCATION:America/New_York
BEGIN:STANDARD
DTSTART:20211107T010000
TZNAME:EST
TZOFFSETFROM:-0400
TZOFFSETTO:-0500
END:STANDARD
END:VTIMEZONE
END:VCALENDAR
