BEGIN:VCALENDAR
VERSION:2.0
PRODID:-//Plone.org//NONSGML plone.app.event//EN
X-WR-TIMEZONE:America/New_York
BEGIN:VEVENT
SUMMARY:Senior Salute
DTSTART;TZID=America/New_York:20210519T180000
DTEND;TZID=America/New_York:20210519T190000
DTSTAMP:20260419T190900Z
UID:19a555b72fef48dea50b570ce8d766c3@172.16.140.7:8080
CATEGORIES:Commencement,Senior Salute
CONTACT:Jean Phelps\, 718-262-2286\, jphelps@york.cuny.edu
CREATED:20210422T175728Z
DESCRIPTION:Graduates have access to invaluable services and information r
 egarding employment opportunities\, professional development\, career path
 s\, graduate schools\, master's degrees\, doctoral programs\, scholarships
 \, and entrance exams.
LAST-MODIFIED:20210517T181413Z
LOCATION:Webinar ID 895 7974 2008 Webinar Passcode 358090
URL:https://www.york.cuny.edu/events/2021/senior-salute-last
END:VEVENT
BEGIN:VTIMEZONE
TZID:America/New_York
X-LIC-LOCATION:America/New_York
BEGIN:DAYLIGHT
DTSTART:20210314T030000
TZNAME:EDT
TZOFFSETFROM:-0500
TZOFFSETTO:-0400
END:DAYLIGHT
END:VTIMEZONE
END:VCALENDAR
