BEGIN:VCALENDAR
VERSION:2.0
PRODID:-//Plone.org//NONSGML plone.app.event//EN
X-WR-TIMEZONE:America/New_York
BEGIN:VEVENT
SUMMARY:SBDC Networking Event
DTSTART;TZID=America/New_York:20210915T193000
DTEND;TZID=America/New_York:20210915T203000
DTSTAMP:20260426T001503Z
UID:c5ed58c3a96f45b68012b87a919e8153@172.16.140.7:8080
ATTENDEE;CN="All are welcomed to attend this virtual event";ROLE=REQ-PARTI
 CIPANT:All are welcomed to attend this virtual event
CONTACT:Brian Yeung\, 718-262-2880\, byeung@york.cuny.edu
CREATED:20210909T191419Z
DESCRIPTION:York College Small Business Development Center presents a 'Biz
  Plan Express Networking Series\, the York SBDC LivePlan training series.
LAST-MODIFIED:20210910T130042Z
LOCATION:Zoom
URL:https://www.york.cuny.edu/events/2021/sbdc-networking-event
END:VEVENT
BEGIN:VTIMEZONE
TZID:America/New_York
X-LIC-LOCATION:America/New_York
BEGIN:DAYLIGHT
DTSTART:20210314T030000
TZNAME:EDT
TZOFFSETFROM:-0500
TZOFFSETTO:-0400
END:DAYLIGHT
END:VTIMEZONE
END:VCALENDAR
