BEGIN:VCALENDAR
VERSION:2.0
PRODID:-//Plone.org//NONSGML plone.app.event//EN
X-WR-TIMEZONE:America/New_York
BEGIN:VEVENT
SUMMARY:Resume Workshop Hosted by AIRBNB
DTSTART;TZID=America/New_York:20210921T163000
DTEND;TZID=America/New_York:20210921T180000
DTSTAMP:20260420T020102Z
UID:cd8b68a7315f461a91d22f2f96bf2bb9@172.16.140.7:8080
ATTENDEE;CN="Current students";ROLE=REQ-PARTICIPANT:Current students
CATEGORIES:Career Services
CONTACT:Linda Chesney\, 718-262-5119\, lchesney@york.cuny.edu\, https://fo
 rms.gle/fqhVSkdBN5trgMKw9
CREATED:20210914T193928Z
DESCRIPTION:Learn about CUNY Tech Prep and get some expert resume advice f
 rom a University and Programs Recruiter @ Airbnb
LAST-MODIFIED:20210915T121441Z
LOCATION:Virtual
URL:https://www.york.cuny.edu/events/2021/resume-workshop-hosted-by-airbnb
END:VEVENT
BEGIN:VTIMEZONE
TZID:America/New_York
X-LIC-LOCATION:America/New_York
BEGIN:DAYLIGHT
DTSTART:20210314T030000
TZNAME:EDT
TZOFFSETFROM:-0500
TZOFFSETTO:-0400
END:DAYLIGHT
END:VTIMEZONE
END:VCALENDAR
