BEGIN:VCALENDAR
VERSION:2.0
PRODID:-//Plone.org//NONSGML plone.app.event//EN
X-WR-TIMEZONE:America/New_York
BEGIN:VEVENT
SUMMARY:Research Horror Stories (Tales from the Field)
DTSTART;TZID=America/New_York:20211013T130000
DTEND;TZID=America/New_York:20211013T140000
DTSTAMP:20260421T102714Z
UID:757c726330e04100a6eb056305d9724c@172.16.140.7:8080
CONTACT:Monique Hylton\, mhylton@besthealthresearch.org\, https://us02web.
 zoom.us/meeting/register/tZIvfuypqD4uHNFj30K-L3A2_h07rfFp2MJW
CREATED:20211009T051533Z
DESCRIPTION:The UrbanHealth Lab presents its weekly Wednesday seminars\, w
 ith a Semi-Structured Discussion on Research Horror Stories (Tales from th
 e Field).
LAST-MODIFIED:20211012T134142Z
LOCATION:Zoom
URL:https://www.york.cuny.edu/events/2021/research-horror-stories-tales-fr
 om-the-field-
END:VEVENT
BEGIN:VTIMEZONE
TZID:America/New_York
X-LIC-LOCATION:America/New_York
BEGIN:DAYLIGHT
DTSTART:20210314T030000
TZNAME:EDT
TZOFFSETFROM:-0500
TZOFFSETTO:-0400
END:DAYLIGHT
END:VTIMEZONE
END:VCALENDAR
