BEGIN:VCALENDAR
VERSION:2.0
PRODID:-//Plone.org//NONSGML plone.app.event//EN
X-WR-TIMEZONE:America/New_York
BEGIN:VEVENT
SUMMARY:Rec On-Demand Workout: RISE Week #3 Lower Body Friday
DTSTART;VALUE=DATE:20210326
DTEND;VALUE=DATE:20210327
DTSTAMP:20260421T045349Z
UID:ddb34f59a19a47cf8ad32e321be22add@172.16.140.7:8080
CATEGORIES:Athletics Digital Signage,employee,Athletics,ds,employee featur
 ed,student,Student Activities
CONTACT:John Baxter\, jbaxter@york.cuny.edu\, https://youtu.be/Ojp2d0V8ndA
CREATED:20201002T161207Z
DESCRIPTION:Recreation presents the RISE Workout Program with Lower Body F
 riday of Week #3. The RISE Workout Program features 5-weeks of dynamic str
 uctured workouts available on-demand.
LAST-MODIFIED:20210305T172307Z
LOCATION:https://www.yorkathletics.com/rise
URL:https://www.york.cuny.edu/events/2021/recreation-on-demand-workout-ris
 e-week-3-lower-body-friday-sp21
END:VEVENT
END:VCALENDAR
