BEGIN:VCALENDAR
VERSION:2.0
PRODID:-//Plone.org//NONSGML plone.app.event//EN
X-WR-TIMEZONE:America/New_York
BEGIN:VEVENT
SUMMARY:Rec On-Demand Workout: RISE Week #2 Lower Body Friday
DTSTART;VALUE=DATE:20210319
DTEND;VALUE=DATE:20210320
DTSTAMP:20260421T031708Z
UID:c9c6dbad106b42bc8224e7815c438b82@172.16.140.7:8080
CATEGORIES:Athletics Digital Signage,employee,Athletics,ds,employee featur
 ed,student,Student Activities
CONTACT:John Baxter\, jbaxter@york.cuny.edu\, https://youtu.be/cDbtdFBOnLs
CREATED:20201002T155912Z
DESCRIPTION:Recreation presents the RISE Workout Program with Lower Body F
 riday of Week #2. The RISE Workout Program features 5-weeks of dynamic str
 uctured workouts available on-demand.
LAST-MODIFIED:20210305T173154Z
LOCATION:https://www.yorkathletics.com/rise
URL:https://www.york.cuny.edu/events/2021/recreation-on-demand-workout-ris
 e-week-2-lower-body-friday-sp21
END:VEVENT
END:VCALENDAR
