BEGIN:VCALENDAR
VERSION:2.0
PRODID:-//Plone.org//NONSGML plone.app.event//EN
X-WR-TIMEZONE:America/New_York
BEGIN:VEVENT
SUMMARY:Rec On-Demand Workout: RISE Week #1 Upper Body Tuesday
DTSTART;VALUE=DATE:20210309
DTEND;VALUE=DATE:20210310
DTSTAMP:20260421T060856Z
UID:88bd19e8844b450fae201a0773695d83@172.16.140.7:8080
CATEGORIES:Athletics Digital Signage,employee,Athletics,ds,employee featur
 ed,student,Student Activities
CONTACT:John Baxter\, jbaxter@york.cuny.edu\, https://youtu.be/zqPdKS_s5sY
CREATED:20201002T150448Z
DESCRIPTION:Recreation presents the RISE Workout Program with Upper Body T
 uesday of Week #1. The RISE Workout Program features 5-weeks of dynamic st
 ructured workouts available on-demand.
LAST-MODIFIED:20210305T180221Z
LOCATION:https://www.yorkathletics.com/rise
URL:https://www.york.cuny.edu/events/2021/recreation-on-demand-workout-ris
 e-week-1-upper-body-tuesday-sp21
END:VEVENT
END:VCALENDAR
