BEGIN:VCALENDAR
VERSION:2.0
PRODID:-//Plone.org//NONSGML plone.app.event//EN
X-WR-TIMEZONE:America/New_York
BEGIN:VEVENT
SUMMARY:Pandora's Box Unplugged
DTSTART;TZID=America/New_York:20210420T120000
DTEND;TZID=America/New_York:20210420T130000
DTSTAMP:20260419T201431Z
UID:69a4f882447c4d36ac74fbf89e21c7e0@172.16.140.7:8080
RRULE:FREQ=WEEKLY;UNTIL=20210511T000000;BYDAY=TU
CONTACT:Bryan Graves or Lisa Ray\, 718-262-5293\, bgraves@york.cuny.edu\, 
 https://york.cuny.edu/ycradio
CREATED:20210414T181509Z
DESCRIPTION:YCRADIO Presents a weekly news broadcast.
LAST-MODIFIED:20210414T194014Z
LOCATION:York College Radio Station
URL:https://www.york.cuny.edu/events/2021/pandoras-box-unplugged1
END:VEVENT
BEGIN:VTIMEZONE
TZID:America/New_York
X-LIC-LOCATION:America/New_York
BEGIN:DAYLIGHT
DTSTART:20210314T030000
TZNAME:EDT
TZOFFSETFROM:-0500
TZOFFSETTO:-0400
END:DAYLIGHT
END:VTIMEZONE
END:VCALENDAR
