BEGIN:VCALENDAR
VERSION:2.0
PRODID:-//Plone.org//NONSGML plone.app.event//EN
X-WR-TIMEZONE:America/New_York
BEGIN:VEVENT
SUMMARY:Mindful Body Thursday features Mental Toughness w-Dr. Lane
DTSTART;VALUE=DATE:20210813
DTEND;VALUE=DATE:20210814
DTSTAMP:20260421T052839Z
UID:c959103d680a4e30b64c7ce12bba4f31@172.16.140.7:8080
CATEGORIES:Athletics Digital Signage,employee,Athletics,ds,employee featur
 ed,student,Student Activities
CONTACT:York Athletics & Recreation\, yorkathletics@york.cuny.edu\, https:
 //us02web.zoom.us/rec/share/RJ9x3IMzi_iOzldWPlf_A_1BZuEukmTWGque7loIFtCVAp
 O7jL5P70NXjPKuRE0l.r8TAnfksTfLJozjh
CREATED:20210128T192409Z
DESCRIPTION:Focus on mental toughness with licensed clinical social worker
  Dr. Charlene Lane for this week's episode of Mindful Body Thursday co-hos
 ted by Recreation's John Baxter and Janira Calderon.
LAST-MODIFIED:20210705T050119Z
LOCATION:https://www.yorkathletics.com/mbt
URL:https://www.york.cuny.edu/events/2021/mindful-body-thursday-with-dr-ch
 arlene-lane-su2021
END:VEVENT
END:VCALENDAR
