BEGIN:VCALENDAR
VERSION:2.0
PRODID:-//Plone.org//NONSGML plone.app.event//EN
X-WR-TIMEZONE:America/New_York
BEGIN:VEVENT
SUMMARY:Men's Soccer Team Virtual Interest Meeting
DTSTART;TZID=America/New_York:20210420T120000
DTEND;TZID=America/New_York:20210420T130000
DTSTAMP:20260421T072548Z
UID:5b53a582a946402e82c8de94139d3bef@172.16.140.7:8080
CATEGORIES:Athletics Digital Signage,employee,Athletics,ds,employee featur
 ed,student,Student Activities
CONTACT:Al Meneses\, ameneses901@york.cuny.edu\, https://yorkathletics.com
 /meetmso
CREATED:20210407T165942Z
DESCRIPTION:Join head men's soccer coach Al Meneses for a virtual team int
 erest meeting for current York students interested in joining the team for
  the 2021 season
LAST-MODIFIED:20210412T173304Z
LOCATION:Zoom (Registration required)
URL:https://www.york.cuny.edu/events/2021/mens-soccer-team-virtual-interes
 t-meeting
END:VEVENT
BEGIN:VTIMEZONE
TZID:America/New_York
X-LIC-LOCATION:America/New_York
BEGIN:DAYLIGHT
DTSTART:20210314T030000
TZNAME:EDT
TZOFFSETFROM:-0500
TZOFFSETTO:-0400
END:DAYLIGHT
END:VTIMEZONE
END:VCALENDAR
