BEGIN:VCALENDAR
VERSION:2.0
PRODID:-//Plone.org//NONSGML plone.app.event//EN
X-WR-TIMEZONE:America/New_York
BEGIN:VEVENT
SUMMARY:Men's Basketball vs. Connecticut College
DTSTART;TZID=America/New_York:20211130T130000
DTSTAMP:20260421T083933Z
UID:d7cd9b73f1c9421283840f8863f8398e@172.16.140.7:8080
CATEGORIES:Athletics Digital Signage,employee,Athletics,ds,employee featur
 ed,student,Student Activities
CONTACT:York Athletics\, yorkathletics@york.cuny.edu\, https://yorkathleti
 cs.com/fans
CREATED:20210308T150959Z
DESCRIPTION:York College Cardinals take on the Connecticut College Camels 
 in a Men's Basketball non-conference matchup at home! Follow the action wi
 th our live stream
LAST-MODIFIED:20211209T183654Z
LOCATION:York College Gymnasium
URL:https://www.york.cuny.edu/events/2021/mens-basketball-vs-connecticut-c
 ollege-2021
END:VEVENT
BEGIN:VTIMEZONE
TZID:America/New_York
X-LIC-LOCATION:America/New_York
BEGIN:STANDARD
DTSTART:20211107T010000
TZNAME:EST
TZOFFSETFROM:-0400
TZOFFSETTO:-0500
END:STANDARD
END:VTIMEZONE
END:VCALENDAR
