BEGIN:VCALENDAR
VERSION:2.0
PRODID:-//Plone.org//NONSGML plone.app.event//EN
X-WR-TIMEZONE:America/New_York
BEGIN:VEVENT
SUMMARY:Master's of Pharmaceutical Science and Business Webinar
DTSTART;TZID=America/New_York:20210701T120000
DTEND;TZID=America/New_York:20210701T130000
DTSTAMP:20260421T124311Z
UID:8e46a874aeaa405f95d4e8c49d07a606@172.16.140.7:8080
CATEGORIES:Graduate Webinar
CONTACT:Grace Prescod\, 7182622178\, gprescod@york.cuny.edu\, https://cuny
 york.askadmissions.net/Portal/EI/ViewDetails?gid=62357715873f0f0a8f407f9be
 442114911a3b3
CREATED:20210421T201914Z
DESCRIPTION:Master's Program in Master's of Pharmaceutical Science and Bus
 iness  Webinar sessions are designed to give you an in-depth view of our m
 aster program
LAST-MODIFIED:20210422T120958Z
URL:https://www.york.cuny.edu/events/2021/masters-of-pharmaceutical-scienc
 e--business-webinar
END:VEVENT
BEGIN:VTIMEZONE
TZID:America/New_York
X-LIC-LOCATION:America/New_York
BEGIN:DAYLIGHT
DTSTART:20210314T030000
TZNAME:EDT
TZOFFSETFROM:-0500
TZOFFSETTO:-0400
END:DAYLIGHT
END:VTIMEZONE
END:VCALENDAR
