BEGIN:VCALENDAR
VERSION:2.0
PRODID:-//Plone.org//NONSGML plone.app.event//EN
X-WR-TIMEZONE:America/New_York
BEGIN:VEVENT
SUMMARY:JoJo's Senior Recital
DTSTART;TZID=America/New_York:20211130T190000
DTEND;TZID=America/New_York:20211130T200000
DTSTAMP:20260420T083925Z
UID:1c57e4d27e354497833d5871ca3ab60d@172.16.140.7:8080
ATTENDEE;CN="Students, faculty and staff";ROLE=REQ-PARTICIPANT:Students, f
 aculty and staff
CONTACT:Mark Adams\, 718-262-2411\, madams@york.cuny.edu
CREATED:20211025T183644Z
DESCRIPTION:Recital event for Prof. Mark Adams' Class.
LAST-MODIFIED:20211025T190500Z
LOCATION:Faculty Dining Room
URL:https://www.york.cuny.edu/events/2021/jojos-senior-recital
END:VEVENT
BEGIN:VTIMEZONE
TZID:America/New_York
X-LIC-LOCATION:America/New_York
BEGIN:STANDARD
DTSTART:20211107T010000
TZNAME:EST
TZOFFSETFROM:-0400
TZOFFSETTO:-0500
END:STANDARD
END:VTIMEZONE
END:VCALENDAR
