BEGIN:VCALENDAR
VERSION:2.0
PRODID:-//Plone.org//NONSGML plone.app.event//EN
X-WR-TIMEZONE:America/New_York
BEGIN:VEVENT
SUMMARY:Intramurals and Recreation Community Zoom Room
DTSTART;TZID=America/New_York:20210902T190000
DTEND;TZID=America/New_York:20210902T210000
DTSTAMP:20260420T193257Z
UID:935733d49f524a7c9c5e6cc6c35a3746@172.16.140.7:8080
RRULE:FREQ=WEEKLY;UNTIL=20211209T000000;BYDAY=TH
EXDATE;TZID=America/New_York:20201224T000000,20201231T000000,20210513T0000
 00
CATEGORIES:Athletics Digital Signage,employee,Athletics,ds,employee featur
 ed,student,Student Activities
CONTACT:John Baxter\, jbaxter@york.cuny.edu\, http://bit.do/imreccommunity
 room
CREATED:20201101T233433Z
DESCRIPTION:The Intramurals and Recreation Community Zoom Room brings the 
 York College campus community together for virtual gatherings featuring ga
 mes and eSports.
LAST-MODIFIED:20210830T105551Z
LOCATION:Zoom
URL:https://www.york.cuny.edu/events/2021/intramurals-recreation-game-room
 -f21
END:VEVENT
BEGIN:VTIMEZONE
TZID:America/New_York
X-LIC-LOCATION:America/New_York
BEGIN:DAYLIGHT
DTSTART:20210314T030000
TZNAME:EDT
TZOFFSETFROM:-0500
TZOFFSETTO:-0400
END:DAYLIGHT
END:VTIMEZONE
END:VCALENDAR
