BEGIN:VCALENDAR
VERSION:2.0
PRODID:-//Plone.org//NONSGML plone.app.event//EN
X-WR-TIMEZONE:America/New_York
BEGIN:VEVENT
SUMMARY:Intramurals and Rec Movie Night: Remember the Titans
DTSTART;TZID=America/New_York:20210211T190000
DTSTAMP:20260421T151623Z
UID:5c67c36263cf4c6690c8517bee7cd0d5@172.16.140.7:8080
CATEGORIES:Athletics Digital Signage,employee,Athletics,ds,employee featur
 ed,student,Student Activities
CONTACT:John Baxter\, jbaxter@york.cuny.edu\, http://bit.do/imreccommunity
 room
CREATED:20210104T190602Z
DESCRIPTION:Join the campus community on Zoom for Intramurals and Recreati
 on Movie Night featuring Remember the Titans.
LAST-MODIFIED:20210104T190741Z
LOCATION:Zoom
URL:https://www.york.cuny.edu/events/2021/intramurals-and-rec-movie-night-
 remember-the-titans
END:VEVENT
BEGIN:VTIMEZONE
TZID:America/New_York
X-LIC-LOCATION:America/New_York
BEGIN:STANDARD
DTSTART:20201101T010000
TZNAME:EST
TZOFFSETFROM:-0400
TZOFFSETTO:-0500
END:STANDARD
END:VTIMEZONE
END:VCALENDAR
